BEGIN:VCALENDAR
PRODID:-//spiritec//spiritec media library//EN
VERSION:2.0
METHOD:PUBLISH
BEGIN:VEVENT
UID:ical-2026-07-19-9899
DTSTART:20260719T130000Z
DTSTAMP:20260421T133524Z
LOCATION:Opernhaus
SUMMARY:Il barbiere di Siviglia
DESCRIPTION:Oberer Schloßgarten 6 \n70173 Stuttgart\n\nKonrad-Adenauer-Straße 32 (Neue Staatsgalerie)\n70173 Stuttgart\n\nU5, U6, U7, U15 bis Hauptbahnhof; Bus 40, 42 bis Hauptbahnhof\nParkhäuser: Schloßgarten, Staatsgalerie und Landtag (alle durchgehend)
CREATED:20260421T133524Z
DTEND:20260719T161500Z
END:VEVENT
END:VCALENDAR
