BEGIN:VCALENDAR
PRODID:-//spiritec//spiritec media library//EN
VERSION:2.0
METHOD:PUBLISH
BEGIN:VEVENT
UID:ical-2026-07-18-9931
DTSTART:20260718T121500Z
DTSTAMP:20260423T102256Z
LOCATION:Treffpunkt Freitreppe Opernhaus
SUMMARY:Einblicke
DESCRIPTION:Oberer Schloßgarten 6\n70173 Stuttgart
CREATED:20260423T102256Z
DTEND:20260718T134500Z
END:VEVENT
END:VCALENDAR
