BEGIN:VCALENDAR
PRODID:-//spiritec//spiritec media library//EN
VERSION:2.0
METHOD:PUBLISH
BEGIN:VEVENT
UID:ical-2026-07-19-9932
DTSTART:20260719T090000Z
DTSTAMP:20260423T102647Z
LOCATION:Treffpunkt Freitreppe Opernhaus
SUMMARY:Einblicke
DESCRIPTION:Oberer Schloßgarten 6\n70173 Stuttgart
CREATED:20260423T102647Z
DTEND:20260719T103000Z
END:VEVENT
END:VCALENDAR
