BEGIN:VCALENDAR
PRODID:-//spiritec//spiritec media library//EN
VERSION:2.0
METHOD:PUBLISH
BEGIN:VEVENT
UID:ical-2026-07-26-9934
DTSTART:20260726T121500Z
DTSTAMP:20260423T102604Z
LOCATION:Treffpunkt Freitreppe Opernhaus
SUMMARY:Einblicke
DESCRIPTION:Oberer Schloßgarten 6\n70173 Stuttgart
CREATED:20260423T102604Z
DTEND:20260726T134500Z
END:VEVENT
END:VCALENDAR
